BEGIN:VCALENDAR
VERSION:2.0
PRODID:-//wp-events-plugin.com//7.2.3.1//EN
TZID:Europe/Berlin
X-WR-TIMEZONE:Europe/Berlin
BEGIN:VEVENT
UID:6@kjf-shk.de
DTSTART;TZID=Europe/Berlin:20260328T090000
DTEND;TZID=Europe/Berlin:20260328T120000
DTSTAMP:20260210T143712Z
URL:https://kjf-shk.de/events/delegiertentag-kreisjugendfeuerwehr-shk/
SUMMARY:Delegiertentag Kreisjugendfeuerwehr SHK
DESCRIPTION:
LOCATION:Gerätehaus Feuerwehr Stadtroda\, Breiter Weg 20\, Stadtroda\, 076
 46\, 
X-APPLE-STRUCTURED-LOCATION;VALUE=URI;X-ADDRESS=Breiter Weg 20\, Stadtroda\
 , 07646\, ;X-APPLE-RADIUS=100;X-TITLE=Gerätehaus Feuerwehr Stadtroda:geo:
 0,0
END:VEVENT
BEGIN:VTIMEZONE
TZID:Europe/Berlin
X-LIC-LOCATION:Europe/Berlin
BEGIN:STANDARD
DTSTART:20251026T020000
TZOFFSETFROM:+0200
TZOFFSETTO:+0100
TZNAME:CET
END:STANDARD
END:VTIMEZONE
END:VCALENDAR